BEGIN:VCALENDAR
PRODID:-//eluceo/ical//2.0/EN
VERSION:2.0
CALSCALE:GREGORIAN
BEGIN:VEVENT
UID:3244246bab8be5eeca277df842d97085
DTSTAMP:20260421T050441Z
SUMMARY:12:00  pm TCP Torah Study
DESCRIPTION:Shalom Lehigh Valley\nCommunity Calendar\nhttps://shalomlehighv
 alley.org/calendar/tcp-torah-study-1410465256-105390\n\nContact Joanne Dav
 enport: tcp@rcn.com or 610-253-2031.
DTSTART;TZID=America/New_York:20141007T120000
DTEND;TZID=America/New_York:20141007T130000
END:VEVENT
END:VCALENDAR
