BEGIN:VCALENDAR
PRODID:-//eluceo/ical//2.0/EN
VERSION:2.0
CALSCALE:GREGORIAN
BEGIN:VEVENT
UID:c48c69fc6b7840b90adff56098759b0a
DTSTAMP:20260420T192649Z
SUMMARY:10:00 am TCP 101 Judaism Class
DESCRIPTION:Shalom Lehigh Valley\nCommunity Calendar\nhttps://shalomlehighv
 alley.org/calendar/tcps-101-judaism-class-1410466560-105393\n\nContact Joa
 nne Davenport: tcp@rcn.com or 610-253-2031.
DTSTART;TZID=America/New_York:20141008T100000
DTEND;TZID=America/New_York:20141008T120000
END:VEVENT
END:VCALENDAR
