BEGIN:VCALENDAR
PRODID:-//eluceo/ical//2.0/EN
VERSION:2.0
CALSCALE:GREGORIAN
BEGIN:VEVENT
UID:9be6c3a05346a0e0b846c3e8a0f80e13
DTSTAMP:20260420T161259Z
SUMMARY:Understanding Recent Hostilities and Implications  with Israel and 
 Hamas
DESCRIPTION:Shalom Lehigh Valley\nCommunity Calendar\nhttps://shalomlehighv
 alley.org/calendar/understanding-recent-hostilities-and-implications-with-
 israel-and-hamas-381653\n\nMore than 4\,000 rockets were launched from Gaz
 a into Israel recently. Why did these aggressions take place at this time?
   What does this mean for peacemaking efforts\, including a two-state out
 come\, and coexistence? As it works to form a new government\, where does 
 Israel go from here? \n\nFeaturing:\nDavid Makovsky\, Ziegler Distinguish
 ed Fellow\;Director\, Koret Project on Arab-Israel Relations\; Washington 
 Institute for Near East Policy \nTamara Cofman Wittes\, Senior Fellow\, F
 oreign Policy\; C...
DTSTART;TZID=America/New_York:20210603T150000
DTEND;TZID=America/New_York:20210603T160000
END:VEVENT
END:VCALENDAR
