BEGIN:VCALENDAR
PRODID:-//eluceo/ical//2.0/EN
VERSION:2.0
CALSCALE:GREGORIAN
BEGIN:VEVENT
UID:53f9ca960508b069baeebd6d6402fbc8
DTSTAMP:20260420T205009Z
SUMMARY:Virtual Chanukah Cooking Class with Michael Solomonov
DESCRIPTION:Shalom Lehigh Valley\nCommunity Calendar\nhttps://shalomlehighv
 alley.org/calendar/virtual-chanukah-cooking-class-with-michael-solomonov-3
 64365\n\nOur Chanukah gift to the Lehigh Valley Jewish community\, in part
 nership with Federations across the country! Learn to make delicious dishe
 s for Chanukah with Executive Chef and Co-owner of Zahav\, Michael Solomo
 nov\, the 2019 James Beard Foundation award winner for Outstanding Restaur
 ant.\n\nIn celebration of the holiday\, Chef Solomonov will be making appl
 e shrub\, Abe Fisher's potato lakes\, roman artichokes with arugula and ol
 ive oil\, poached salmon and sfenj (Moroccan doughnuts) with cinnamon...
DTSTART;TZID=America/New_York:20201202T200000
DTEND;TZID=America/New_York:20201202T210000
END:VEVENT
END:VCALENDAR
