BEGIN:VCALENDAR
PRODID:-//eluceo/ical//2.0/EN
VERSION:2.0
CALSCALE:GREGORIAN
BEGIN:VEVENT
UID:755160d1722fe7c1c22e4e99dbdc01b3
DTSTAMP:20260420T161311Z
SUMMARY:Virtual Major Donor Event: A Special Evening with Bari Weiss
DESCRIPTION:Shalom Lehigh Valley\nCommunity Calendar\nhttps://shalomlehighv
 alley.org/calendar/virtual-major-donor-event-a-special-evening-with-bari-w
 eiss-361898\n\nJewish Federation major donors are invited to a special eve
 ning with Bari Weiss\, former New York Times op-ed writer. \n\n \n\n \n
 \n \n\n \n\nBari was recently named the seventh most influential Jew in 
 the world by The Jerusalem Post. Her parents were disappointed that she di
 dn't rank higher. Weiss\, who recently submitted a viral resignation lette
 r to The New York Times\, where she served as an op-ed writer and editor\,
  is the author of the book "How to Fight Anti-Semitism." In the book\, sh.
 ..
DTSTART;TZID=America/New_York:20200916T190000
DTEND;TZID=America/New_York:20200916T203000
END:VEVENT
END:VCALENDAR
