BEGIN:VCALENDAR
PRODID:-//eluceo/ical//2.0/EN
VERSION:2.0
CALSCALE:GREGORIAN
BEGIN:VEVENT
UID:4c52c06d14b7bca1d670358f300d3ea0
DTSTAMP:20260421T150145Z
SUMMARY:Web Series with David Horovitz
DESCRIPTION:Shalom Lehigh Valley\nCommunity Calendar\nhttps://shalomlehighv
 alley.org/calendar/web-series-with-david-horovitz-4-387023\n\nJoin us agai
 n this year for a web series with David Horovitz. More details to follow.\
 n\nSeries dates:\nWednesday\, September 1\nMonday\, November 8\nMonday\, J
 anuary 17\nWednesday\, March 2\nMonday\, May 16\n\nSponsor: Jewish Federat
 ions of Greater Philadelphia and the Lehigh Valley
DTSTART;TZID=America/New_York:20220302T120000
DTEND;TZID=America/New_York:20220302T130000
END:VEVENT
END:VCALENDAR
