BEGIN:VCALENDAR
PRODID:-//eluceo/ical//2.0/EN
VERSION:2.0
CALSCALE:GREGORIAN
BEGIN:VEVENT
UID:63b788121e2647d1f8d101207cfbe990
DTSTAMP:20260421T150135Z
SUMMARY:Web Series with David Horovitz
DESCRIPTION:Shalom Lehigh Valley\nCommunity Calendar\nhttps://shalomlehighv
 alley.org/calendar/web-series-with-david-horovitz-5-387022\n\nat 12:00 p.m
 . EST: \n\nJoin us for the last class of the web series with David Horov
 itz. More details to follow.\n\nSeries dates:\nWednesday\, September 1\nMo
 nday\, November 8\nMonday\, January 17\nWednesday\, March 2\nMonday\, May 
 16\n\nSponsor: Jewish Federations of Greater Philadelphia and the Lehigh V
 alley
DTSTART;TZID=America/New_York:20220516T120000
DTEND;TZID=America/New_York:20220516T130000
END:VEVENT
END:VCALENDAR
