BEGIN:VCALENDAR
PRODID:-//eluceo/ical//2.0/EN
VERSION:2.0
CALSCALE:GREGORIAN
BEGIN:VEVENT
UID:48107947b238d71ad1181108e891cc82
DTSTAMP:20260419T194900Z
SUMMARY:What to Expect from the 2020 Pandemic Election
DESCRIPTION:Shalom Lehigh Valley\nCommunity Calendar\nhttps://shalomlehighv
 alley.org/calendar/what-to-expect-from-the-2020-pandemic-election-348105\n
 \nWhere do things stand in the race for the White House in the final weeks
  before Election Day? How does Pennsylvania shape up as one of the premier
  swing states in the nation? What do the polls say about the race and how 
 confident should you be in them?\n\nGet insight into the upcoming election
 s from Dr. Chris Borick\, director of the Muhlenberg College Institute of 
 Public Opinion\, along with Dr. Gordon Goldberg\, professor emeritus of hi
 story at Kutztown University. \n\nREGISTER NOW
DTSTART;TZID=America/New_York:20201020T190000
DTEND;TZID=America/New_York:20201020T200000
END:VEVENT
END:VCALENDAR
