BEGIN:VCALENDAR
PRODID:-//eluceo/ical//2.0/EN
VERSION:2.0
CALSCALE:GREGORIAN
BEGIN:VEVENT
UID:64ccddf85b13f4b8c342cde1be6d2e2c
DTSTAMP:20260422T053106Z
SUMMARY:Let’s Kick-Off a Sweet New Year with Pam Turkin\, Master Baker fr
 om Detroit
DESCRIPTION:Shalom Lehigh Valley\nCommunity Calendar\nhttps://shalomlehighv
 alley.org/calendar/womens-kickoff-2021-384073\n\nJewish Federation via Zoo
 m.  Women’s Philanthropy Kick-off with Babka Brigade. Free and open t
 o everyone. 
DTSTART;TZID=America/New_York:20210923T190000
DTEND;TZID=America/New_York:20210923T200000
END:VEVENT
END:VCALENDAR
