BEGIN:VCALENDAR
PRODID:-//eluceo/ical//2.0/EN
VERSION:2.0
CALSCALE:GREGORIAN
BEGIN:VEVENT
UID:80f167865cd28aa24dc9ec5f1f73d25d
DTSTAMP:20260419T155200Z
SUMMARY:Women's Philanthropy Board Meeting
DESCRIPTION:Shalom Lehigh Valley\nCommunity Calendar\nhttps://shalomlehighv
 alley.org/calendar/womens-philanthropy-board-meeting-2-2-22-374613\n\nA me
 eting of the board of Women's Philanthropy of the Jewish Federation. 
DTSTART;TZID=America/New_York:20220202T090000
DTEND;TZID=America/New_York:20220202T100000
END:VEVENT
END:VCALENDAR
