BEGIN:VCALENDAR
PRODID:-//eluceo/ical//2.0/EN
VERSION:2.0
CALSCALE:GREGORIAN
BEGIN:VEVENT
UID:d8bc11a2e100ebf2860b6e335ad33ed9
DTSTAMP:20260420T092103Z
SUMMARY:Women's Philanthropy Board Meeting
DESCRIPTION:Shalom Lehigh Valley\nCommunity Calendar\nhttps://shalomlehighv
 alley.org/calendar/womens-philanthropy-board-meeting-2-4-20-370181\n\nWome
 n's Philanthropy board meeting.
DTSTART;TZID=America/New_York:20210204T190000
DTEND;TZID=America/New_York:20210204T200000
END:VEVENT
END:VCALENDAR
