BEGIN:VCALENDAR
PRODID:-//eluceo/ical//2.0/EN
VERSION:2.0
CALSCALE:GREGORIAN
BEGIN:VEVENT
UID:81c3029a67d41aac8f8996bf6494fc38
DTSTAMP:20260420T135521Z
SUMMARY:Women's Philanthropy Board Meeting
DESCRIPTION:Shalom Lehigh Valley\nCommunity Calendar\nhttps://shalomlehighv
 alley.org/calendar/womens-philanthropy-board-meeting-9-10-2021-374605\n\nT
 he opening meeting of the Women's Philanthropy board.
DTSTART;TZID=America/New_York:20210910T093000
DTEND;TZID=America/New_York:20210910T110000
END:VEVENT
END:VCALENDAR
