BEGIN:VCALENDAR
PRODID:-//eluceo/ical//2.0/EN
VERSION:2.0
CALSCALE:GREGORIAN
BEGIN:VEVENT
UID:f25056cfac081c6c0322fd1d8cb4e465
DTSTAMP:20260420T071723Z
SUMMARY:Women's Philanthropy Chai Club Dinner
DESCRIPTION:Shalom Lehigh Valley\nCommunity Calendar\nhttps://shalomlehighv
 alley.org/calendar/womens-philanthropy-chai-club-dinner-406946\n\nThe gues
 t speaker will be Ruchi Koval\, co-founder and associate director of Congr
 egation JFX\, an innovative community in Cleveland. Drawing on themes from
  her book “Soul Construction: Shape Your Character Using 8 Steps from th
 e Timeless Jewish Practice of Mussar\,” she will talk about ways to beco
 me the best version of yourself.\n\nA pledge of $180 to the Annual Campaig
 n for Jewish Needs is required to attend. Cost for the event is $18. Regis
 ter by May 2.\n\n 
DTSTART;TZID=America/New_York:20230516T183000
DTEND;TZID=America/New_York:20230516T200000
END:VEVENT
END:VCALENDAR
