BEGIN:VCALENDAR
PRODID:-//eluceo/ical//2.0/EN
VERSION:2.0
CALSCALE:GREGORIAN
BEGIN:VEVENT
UID:3b3c1fb77aa56c8eeda85fd03b78e3b4
DTSTAMP:20260421T161345Z
SUMMARY:POSTPONED: Women's Philanthropy Newcomers' Combat Chaos Self Defens
 e Class
DESCRIPTION:Shalom Lehigh Valley\nCommunity Calendar\nhttps://shalomlehighv
 alley.org/calendar/womens-philanthropy-newcomers-self-defense-class-265229
 \n\nThis event has been postponed until the fall. Please check back for a 
 new date.\n\nCall 610-821-5500 or email mailbox@jflv.org if you have any 
 questions.
DTSTART;TZID=America/New_York:20180529T190000
DTEND;TZID=America/New_York:20180529T210000
END:VEVENT
END:VCALENDAR
