BEGIN:VCALENDAR
PRODID:-//eluceo/ical//2.0/EN
VERSION:2.0
CALSCALE:GREGORIAN
BEGIN:VEVENT
UID:34ae6f2ccd526cb80b4383da6ebe754a
DTSTAMP:20260421T000704Z
SUMMARY:Women's Philanthropy & Shalom Lehigh Valley Chanukah Gift Make & Ta
 ke
DESCRIPTION:Shalom Lehigh Valley\nCommunity Calendar\nhttps://shalomlehighv
 alley.org/calendar/womens-philanthropy-shalom-lehigh-valley-chanukah-gift-
 make--take-249562\n\nJoin new friends and old to make your own set of four
  personalized coasters to keep or give as a Chanukah gift. Bring your own 
 4x4 photos or use patterned paper provided. $12 includes breakfast and one
  set of coasters. Additional sets can be made for $5 each.\n\nBrought to y
 ou by the Shalom Lehigh Valley Committee of Women’s Philanthropy -- newc
 omers especially welcome! \n\nRegister by Dec. 1 to 610-821-5500 or mailb
 ox@jflv.org or REGISTER NOW.
DTSTART;TZID=America/New_York:20171206T100000
DTEND;TZID=America/New_York:20171206T113000
END:VEVENT
END:VCALENDAR
