BEGIN:VCALENDAR
PRODID:-//eluceo/ical//2.0/EN
VERSION:2.0
CALSCALE:GREGORIAN
BEGIN:VEVENT
UID:489a97bed78c180bb1c973ce450f2535
DTSTAMP:20260420T204949Z
SUMMARY:Women's Philanthropy Spring Event
DESCRIPTION:Shalom Lehigh Valley\nCommunity Calendar\nhttps://shalomlehighv
 alley.org/calendar/womens-philanthropy-spring-event-2022-374616\n\nJoin us
  for an in-person evening of Movement\, Mindfulness & Spiritual Positivity
 \n\nThe evening will include:\n- Lite Chair Yoga and Jewish Spiritual Teac
 hing led by Deborah Glassman\n- Spa-themed dinner\n- Detox Drinks and Reci
 pes\n- Refreshing Wine Spritzer Bar\n- Fun\, wellness themed stations!\n\n
 $50 couvert. Dietary Laws Observed.\nPlease RSVP by calling 610-821-5500 o
 r register online by April 27th.\n\nA minimum gift of $365 (A Dollar A Day
 ) to the 2022 Annual Campaign for Jewish Needs i...
DTSTART;TZID=America/New_York:20220511T183000
DTEND;TZID=America/New_York:20220511T203000
END:VEVENT
END:VCALENDAR
