BEGIN:VCALENDAR
PRODID:-//eluceo/ical//2.0/EN
VERSION:2.0
CALSCALE:GREGORIAN
BEGIN:VEVENT
UID:0646d6fc16d27615d08e0aff36f9ae44
DTSTAMP:20260421T211051Z
SUMMARY:Yachad 2022 Fall Classes - Thursdays - NO CLASS
DESCRIPTION:Shalom Lehigh Valley\nCommunity Calendar\nhttps://shalomlehighv
 alley.org/calendar/yachad-2022-fall-classes-thursdays-409786\n\nPlease joi
 n us in-person on Thursday's for Yachad.\n\nRegistration details to follow
 .
DTSTART;TZID=America/New_York:20221006T093000
DTEND;TZID=America/New_York:20221006T103000
END:VEVENT
END:VCALENDAR
