BEGIN:VCALENDAR
PRODID:-//eluceo/ical//2.0/EN
VERSION:2.0
CALSCALE:GREGORIAN
BEGIN:VEVENT
UID:e449c8b1bdb1360c685990a64a4719da
DTSTAMP:20260421T015153Z
SUMMARY:Yachad 2022 Fall Classes - Thursdays - NO CLASS
DESCRIPTION:Shalom Lehigh Valley\nCommunity Calendar\nhttps://shalomlehighv
 alley.org/calendar/yachad-2022-fall-classes-thursdays-409788\n\nPlease joi
 n us in-person on Thursday's for Yachad.\n\nRegistration details to follow
 .
DTSTART;TZID=America/New_York:20221013T093000
DTEND;TZID=America/New_York:20221013T103000
END:VEVENT
END:VCALENDAR
