BEGIN:VCALENDAR
PRODID:-//eluceo/ical//2.0/EN
VERSION:2.0
CALSCALE:GREGORIAN
BEGIN:VEVENT
UID:4019553d279a51054a901eade291bf0a
DTSTAMP:20260419T124907Z
SUMMARY:Yachad 2022 Fall Classes - Tuesday 9/20
DESCRIPTION:Shalom Lehigh Valley\nCommunity Calendar\nhttps://shalomlehighv
 alley.org/calendar/yachad-2022-fall-classes-tuesday-920-411173\n\nJoin us 
 for Yachad Classes. More details to follow.
DTSTART;TZID=America/New_York:20220920T093000
DTEND;TZID=America/New_York:20220920T103000
END:VEVENT
END:VCALENDAR
