BEGIN:VCALENDAR
PRODID:-//eluceo/ical//2.0/EN
VERSION:2.0
CALSCALE:GREGORIAN
BEGIN:VEVENT
UID:d2ec8539394d3761e95a2623399cf0b7
DTSTAMP:20260420T091837Z
SUMMARY:Yachad 2022 Fall Classes - Tuesdays
DESCRIPTION:Shalom Lehigh Valley\nCommunity Calendar\nhttps://shalomlehighv
 alley.org/calendar/yachad-2022-fall-classes-tuesdays-407088\n\nPlease join
  us in-person on Tuesday's for Yachad!\n\nRegistration details to follow.
DTSTART;TZID=America/New_York:20220927T093000
DTEND;TZID=America/New_York:20220927T103000
END:VEVENT
END:VCALENDAR
