BEGIN:VCALENDAR
PRODID:-//eluceo/ical//2.0/EN
VERSION:2.0
CALSCALE:GREGORIAN
BEGIN:VEVENT
UID:9dc92b89d1cdf56a5c46a25de63a5e0b
DTSTAMP:20260419T170756Z
SUMMARY:Yachad 2022 Fall Classes - Tuesdays - NO CLASS
DESCRIPTION:Shalom Lehigh Valley\nCommunity Calendar\nhttps://shalomlehighv
 alley.org/calendar/yachad-2022-fall-classes-tuesdays-409775\n\nPlease join
  us in-person on Tuesday's for Yachad!\n\nRegistration details to follow.
DTSTART;TZID=America/New_York:20220927T093000
DTEND;TZID=America/New_York:20220927T103000
END:VEVENT
END:VCALENDAR
