BEGIN:VCALENDAR
PRODID:-//eluceo/ical//2.0/EN
VERSION:2.0
CALSCALE:GREGORIAN
BEGIN:VEVENT
UID:86d54b58bc99acf9e51b7f6cd1a3c0e5
DTSTAMP:20260420T033302Z
SUMMARY:Yachad 2022 Fall Classes - Tuesdays - NO CLASS
DESCRIPTION:Shalom Lehigh Valley\nCommunity Calendar\nhttps://shalomlehighv
 alley.org/calendar/yachad-2022-fall-classes-tuesdays-409785\n\nPlease join
  us in-person on Tuesday's for Yachad!\n\nRegistration details to follow.
DTSTART;TZID=America/New_York:20221004T093000
DTEND;TZID=America/New_York:20221004T103000
END:VEVENT
END:VCALENDAR
