BEGIN:VCALENDAR
PRODID:-//eluceo/ical//2.0/EN
VERSION:2.0
CALSCALE:GREGORIAN
BEGIN:VEVENT
UID:eff02e01fa1100694ba065f7a7046825
DTSTAMP:20260419T220008Z
SUMMARY:Yachad 2022 Fall Classes - Tuesdays - NO CLASS
DESCRIPTION:Shalom Lehigh Valley\nCommunity Calendar\nhttps://shalomlehighv
 alley.org/calendar/yachad-2022-fall-classes-tuesdays-409787\n\nPlease join
  us in-person on Tuesday's for Yachad!\n\nRegistration details to follow.
DTSTART;TZID=America/New_York:20221011T093000
DTEND;TZID=America/New_York:20221011T103000
END:VEVENT
END:VCALENDAR
