BEGIN:VCALENDAR
PRODID:-//eluceo/ical//2.0/EN
VERSION:2.0
CALSCALE:GREGORIAN
BEGIN:VEVENT
UID:8708703fc4c9bc3d1d7f2179ead376b9
DTSTAMP:20260419T230450Z
SUMMARY:Yachad University Spring 2015 - Tuesday Sessions Begin
DESCRIPTION:Shalom Lehigh Valley\nCommunity Calendar\nhttps://shalomlehighv
 alley.org/calendar/yachad-university-spring-2015-tuesday-sessions-begin-12
 8805\n\nCost: $100 per course. Registration forms: JFLV office & JCC recep
 tion desk or register online www.jewishlehighvalley.org.
DTSTART;TZID=America/New_York:20150113T093000
DTEND;TZID=America/New_York:20150113T114500
END:VEVENT
END:VCALENDAR
