BEGIN:VCALENDAR
PRODID:-//eluceo/ical//2.0/EN
VERSION:2.0
CALSCALE:GREGORIAN
BEGIN:VEVENT
UID:97838fe46a1bdef45e4becc519f0a607
DTSTAMP:20260420T062450Z
SUMMARY:Jewish Heritage Night at the IronPigs
DESCRIPTION:Shalom Lehigh Valley\nCommunity Calendar\nhttps://shalomlehighv
 alley.org/calendar/yad-ironpigs-60028\n\nJoin the Jewish community at the 
 IronPigs! Kosher food and Jewish-themed games between innings. Show your p
 ride!\n \nShlock Rock will perform before the game at 6 p.m. \n \nGroup
  tickets available through the following organizations:\nBnai Abraham Syna
 gogue | 610-258-5343 \nCongregation Brith Sholom | 610-866-8009\nCongrega
 tion Keneseth Israel | 610-435-9074\nCongregation Sons of Israel | 610-433
 -6089\nJewish Community Center of Allentown | 610-435-3571\nJewish Day Sch
 ool of the Lehigh Va...
DTSTART;TZID=America/New_York:20140522T190500
DTEND;TZID=America/New_York:20140522T220000
END:VEVENT
END:VCALENDAR
