BEGIN:VCALENDAR
PRODID:-//eluceo/ical//2.0/EN
VERSION:2.0
CALSCALE:GREGORIAN
BEGIN:VEVENT
UID:45e68154a5066acecd9217c0b0498132
DTSTAMP:20260419T233337Z
SUMMARY:Yom HaShoah Holocaust Commemoration
DESCRIPTION:Shalom Lehigh Valley\nCommunity Calendar\nhttps://shalomlehighv
 alley.org/calendar/yom-hashoah-holocaust-commemoration-2022-342644\n\nHope
  After Hate\n\n6:00 p.m. memorial reading of names\, 7:00 p.m. program\n\n
 Program will also stream live via the Jewish Federation’s Facebook page\
 n\nFormer award-winning investigative reporter Hagit Limor went to Poland 
 and Germany to retrace her father’s steps as a survivor of the Nazi regi
 me. His story and her own journey to discover its lessons inspire action a
 gainst hatred and bigotry today.\n\nGo to www.jewishlehighvalley.org/yom f
 or more information.
DTSTART;TZID=America/New_York:20220427T180000
DTEND;TZID=America/New_York:20220427T200000
END:VEVENT
END:VCALENDAR
