BEGIN:VCALENDAR
PRODID:-//eluceo/ical//2.0/EN
VERSION:2.0
CALSCALE:GREGORIAN
BEGIN:VEVENT
UID:2af7c4de1fc0a658e03c85f4ef83c063
DTSTAMP:20260420T184751Z
SUMMARY:Yom Hazikaron Observance
DESCRIPTION:Shalom Lehigh Valley\nCommunity Calendar\nhttps://shalomlehighv
 alley.org/calendar/yom-hazikaron-observance-4-24-2023-143171\n\nA ceremony
  will be held at Congregation Keneseth Israel to observe Israel’s Memori
 al Day and remember the IDF’s Fallen Soldiers and those who have died in
  terror attacks.\n\nServices will be held at 5:45 pm prior to the 6:00 pm
  ceremony. The public is welcome to attend.\n\nClick here to register.
DTSTART;TZID=America/New_York:20230424T180000
DTEND;TZID=America/New_York:20230424T200000
END:VEVENT
END:VCALENDAR
