BEGIN:VCALENDAR
PRODID:-//eluceo/ical//2.0/EN
VERSION:2.0
CALSCALE:GREGORIAN
BEGIN:VEVENT
UID:9550cdd279a6104d100c619dbdac9b04
DTSTAMP:20260422T192019Z
SUMMARY:** YOM KIPPUR ** 
DESCRIPTION:Shalom Lehigh Valley\nCommunity Calendar\nhttps://shalomlehighv
 alley.org/calendar/yom-kippur-10-12-16-135392\n\nHoliday commences at sund
 own on October 11.\n\nFederation offices close at 4:00 pm on Oct. 11.\n\nF
 ederation offices closed Oct. 12.
DTSTART;TZID=America/New_York:20161012T000000
DTEND;TZID=America/New_York:20161012T235959
END:VEVENT
END:VCALENDAR
