BEGIN:VCALENDAR
PRODID:-//eluceo/ical//2.0/EN
VERSION:2.0
CALSCALE:GREGORIAN
BEGIN:VEVENT
UID:1e843849c59a0986e034b8908ecf80a2
DTSTAMP:20260420T103812Z
SUMMARY:** YOM KIPPUR **
DESCRIPTION:Shalom Lehigh Valley\nCommunity Calendar\nhttps://shalomlehighv
 alley.org/calendar/yom-kippur-9-23-15-132744\n\nHoliday commences at sundo
 wn on September 22.\n\nFederation offices close at 4:00 pm on September 22
 .\n\nFederation offices closed all day on September 23.
DTSTART;TZID=America/New_York:20150923T000000
DTEND;TZID=America/New_York:20150923T235959
END:VEVENT
END:VCALENDAR
