BEGIN:VCALENDAR
PRODID:-//eluceo/ical//2.0/EN
VERSION:2.0
CALSCALE:GREGORIAN
BEGIN:VEVENT
UID:11f5882bf05b679aadbe2974af76138d
DTSTAMP:20260420T025850Z
SUMMARY:Young Adult Division: Strike the New Year
DESCRIPTION:Shalom Lehigh Valley\nCommunity Calendar\nhttps://shalomlehighv
 alley.org/calendar/young-adult-division-strike-the-new-year-49449\n\nMeet 
 our new members\, schmooze\, enjoy some food and showcase your bowling ski
 lls.\n\nThe Jewish Federation’s Young Adult Division is made up of a wid
 e range of community members and is a great way to get involved.
DTSTART;TZID=America/New_York:20140116T180000
DTEND;TZID=America/New_York:20140116T200000
END:VEVENT
END:VCALENDAR
